BEGIN:VCALENDAR
VERSION:2.0
PRODID:-//Cheshire Buzz - ECPv6.15.20//NONSGML v1.0//EN
CALSCALE:GREGORIAN
METHOD:PUBLISH
X-WR-CALNAME:Cheshire Buzz
X-ORIGINAL-URL:https://cheshirebuzz.com
X-WR-CALDESC:Events for Cheshire Buzz
REFRESH-INTERVAL;VALUE=DURATION:PT1H
X-Robots-Tag:noindex
X-PUBLISHED-TTL:PT1H
BEGIN:VTIMEZONE
TZID:Europe/London
BEGIN:DAYLIGHT
TZOFFSETFROM:+0000
TZOFFSETTO:+0100
TZNAME:BST
DTSTART:20250330T010000
END:DAYLIGHT
BEGIN:STANDARD
TZOFFSETFROM:+0100
TZOFFSETTO:+0000
TZNAME:GMT
DTSTART:20251026T010000
END:STANDARD
BEGIN:DAYLIGHT
TZOFFSETFROM:+0000
TZOFFSETTO:+0100
TZNAME:BST
DTSTART:20260329T010000
END:DAYLIGHT
BEGIN:STANDARD
TZOFFSETFROM:+0100
TZOFFSETTO:+0000
TZNAME:GMT
DTSTART:20261025T010000
END:STANDARD
BEGIN:DAYLIGHT
TZOFFSETFROM:+0000
TZOFFSETTO:+0100
TZNAME:BST
DTSTART:20270328T010000
END:DAYLIGHT
BEGIN:STANDARD
TZOFFSETFROM:+0100
TZOFFSETTO:+0000
TZNAME:GMT
DTSTART:20271031T010000
END:STANDARD
END:VTIMEZONE
BEGIN:VEVENT
DTSTART;TZID=Europe/London:20260425T093000
DTEND;TZID=Europe/London:20260425T120000
DTSTAMP:20260424T095311
CREATED:20260416T073958Z
LAST-MODIFIED:20260416T073958Z
UID:10000136-1777109400-1777118400@cheshirebuzz.com
SUMMARY:Charity Plant Sale
DESCRIPTION:Organised by Hoole Allotments off Canadian Avenue Hoole\, a weekly plant and veg sale from Saturday 18/4 to Saturday 16/5. A great variety of different vegetables\, perennials and annuals grown locally. Cash only\, ALL profits go to the Hospice of the Hood Dhepherd Backford.
URL:https://cheshirebuzz.com/event/charity-plant-sale-2/2026-04-25/
LOCATION:Hoole Allotments\, Panton Road off Canadian avenue\, Chester\, Cheshire\, CH2 3HL\, United Kingdom
CATEGORIES:Community
ATTACH;FMTTYPE=image/jpeg:https://cheshirebuzz.com/wp-content/uploads/2026/04/643f815d-da12-4939-9204-9995e7c00204.jpeg
ORGANIZER;CN="Hoole Allotments":MAILTO:Lynnieellison@hotmail.co.uk
END:VEVENT
BEGIN:VEVENT
DTSTART;TZID=Europe/London:20260502T093000
DTEND;TZID=Europe/London:20260502T120000
DTSTAMP:20260424T095311
CREATED:20260416T073958Z
LAST-MODIFIED:20260416T073958Z
UID:10000137-1777714200-1777723200@cheshirebuzz.com
SUMMARY:Charity Plant Sale
DESCRIPTION:Organised by Hoole Allotments off Canadian Avenue Hoole\, a weekly plant and veg sale from Saturday 18/4 to Saturday 16/5. A great variety of different vegetables\, perennials and annuals grown locally. Cash only\, ALL profits go to the Hospice of the Hood Dhepherd Backford.
URL:https://cheshirebuzz.com/event/charity-plant-sale-2/2026-05-02/
LOCATION:Hoole Allotments\, Panton Road off Canadian avenue\, Chester\, Cheshire\, CH2 3HL\, United Kingdom
CATEGORIES:Community
ATTACH;FMTTYPE=image/jpeg:https://cheshirebuzz.com/wp-content/uploads/2026/04/643f815d-da12-4939-9204-9995e7c00204.jpeg
ORGANIZER;CN="Hoole Allotments":MAILTO:Lynnieellison@hotmail.co.uk
END:VEVENT
BEGIN:VEVENT
DTSTART;TZID=Europe/London:20260509T093000
DTEND;TZID=Europe/London:20260509T120000
DTSTAMP:20260424T095311
CREATED:20260416T073958Z
LAST-MODIFIED:20260416T073958Z
UID:10000138-1778319000-1778328000@cheshirebuzz.com
SUMMARY:Charity Plant Sale
DESCRIPTION:Organised by Hoole Allotments off Canadian Avenue Hoole\, a weekly plant and veg sale from Saturday 18/4 to Saturday 16/5. A great variety of different vegetables\, perennials and annuals grown locally. Cash only\, ALL profits go to the Hospice of the Hood Dhepherd Backford.
URL:https://cheshirebuzz.com/event/charity-plant-sale-2/2026-05-09/
LOCATION:Hoole Allotments\, Panton Road off Canadian avenue\, Chester\, Cheshire\, CH2 3HL\, United Kingdom
CATEGORIES:Community
ATTACH;FMTTYPE=image/jpeg:https://cheshirebuzz.com/wp-content/uploads/2026/04/643f815d-da12-4939-9204-9995e7c00204.jpeg
ORGANIZER;CN="Hoole Allotments":MAILTO:Lynnieellison@hotmail.co.uk
END:VEVENT
BEGIN:VEVENT
DTSTART;TZID=Europe/London:20260516T093000
DTEND;TZID=Europe/London:20260516T120000
DTSTAMP:20260424T095311
CREATED:20260416T073958Z
LAST-MODIFIED:20260416T073958Z
UID:10000139-1778923800-1778932800@cheshirebuzz.com
SUMMARY:Charity Plant Sale
DESCRIPTION:Organised by Hoole Allotments off Canadian Avenue Hoole\, a weekly plant and veg sale from Saturday 18/4 to Saturday 16/5. A great variety of different vegetables\, perennials and annuals grown locally. Cash only\, ALL profits go to the Hospice of the Hood Dhepherd Backford.
URL:https://cheshirebuzz.com/event/charity-plant-sale-2/2026-05-16/
LOCATION:Hoole Allotments\, Panton Road off Canadian avenue\, Chester\, Cheshire\, CH2 3HL\, United Kingdom
CATEGORIES:Community
ATTACH;FMTTYPE=image/jpeg:https://cheshirebuzz.com/wp-content/uploads/2026/04/643f815d-da12-4939-9204-9995e7c00204.jpeg
ORGANIZER;CN="Hoole Allotments":MAILTO:Lynnieellison@hotmail.co.uk
END:VEVENT
END:VCALENDAR